BEGIN:VCALENDAR
VERSION:2.0
PRODID:-//LMCD - ECPv6.15.20//NONSGML v1.0//EN
CALSCALE:GREGORIAN
METHOD:PUBLISH
X-WR-CALNAME:LMCD
X-ORIGINAL-URL:https://lmcd.org
X-WR-CALDESC:Events for LMCD
REFRESH-INTERVAL;VALUE=DURATION:PT1H
X-Robots-Tag:noindex
X-PUBLISHED-TTL:PT1H
BEGIN:VTIMEZONE
TZID:America/Chicago
BEGIN:DAYLIGHT
TZOFFSETFROM:-0600
TZOFFSETTO:-0500
TZNAME:CDT
DTSTART:20230312T080000
END:DAYLIGHT
BEGIN:STANDARD
TZOFFSETFROM:-0500
TZOFFSETTO:-0600
TZNAME:CST
DTSTART:20231105T070000
END:STANDARD
BEGIN:DAYLIGHT
TZOFFSETFROM:-0600
TZOFFSETTO:-0500
TZNAME:CDT
DTSTART:20240310T080000
END:DAYLIGHT
BEGIN:STANDARD
TZOFFSETFROM:-0500
TZOFFSETTO:-0600
TZNAME:CST
DTSTART:20241103T070000
END:STANDARD
BEGIN:DAYLIGHT
TZOFFSETFROM:-0600
TZOFFSETTO:-0500
TZNAME:CDT
DTSTART:20250309T080000
END:DAYLIGHT
BEGIN:STANDARD
TZOFFSETFROM:-0500
TZOFFSETTO:-0600
TZNAME:CST
DTSTART:20251102T070000
END:STANDARD
END:VTIMEZONE
BEGIN:VEVENT
DTSTART;TZID=America/Chicago:20240716T080000
DTEND;TZID=America/Chicago:20240716T170000
DTSTAMP:20260423T020319
CREATED:20240715T191401Z
LAST-MODIFIED:20240715T191401Z
UID:5101-1721116800-1721149200@lmcd.org
SUMMARY:07/16/2024 Wayzata Yacht Club Summer Race Series
DESCRIPTION:
URL:https://lmcd.org/event/07-16-2024-wayzata-yacht-club-summer-race-series/
LOCATION:Wayzata Bay
CATEGORIES:Other
END:VEVENT
BEGIN:VEVENT
DTSTART;TZID=America/Chicago:20240716T080000
DTEND;TZID=America/Chicago:20240716T170000
DTSTAMP:20260423T020319
CREATED:20240715T191834Z
LAST-MODIFIED:20240715T191834Z
UID:5108-1721116800-1721149200@lmcd.org
SUMMARY:07/16/2024 Minnetonka Yacht Club Summer Race Series
DESCRIPTION:
URL:https://lmcd.org/event/07-16-2024-minnetonka-yacht-club-summer-race-series/
LOCATION:Big Island
CATEGORIES:Other
END:VEVENT
BEGIN:VEVENT
DTSTART;TZID=America/Chicago:20240716T090000
DTEND;TZID=America/Chicago:20240716T170000
DTSTAMP:20260423T020319
CREATED:20240715T192353Z
LAST-MODIFIED:20240715T192353Z
UID:5114-1721120400-1721149200@lmcd.org
SUMMARY:07/16/2024 Upper Minnetonka Yacht Club Regattas
DESCRIPTION:
URL:https://lmcd.org/event/07-16-2024-upper-minnetonka-yacht-club-regattas/
LOCATION:East and West Bays of Upper Minnetonka Lake
CATEGORIES:Other
END:VEVENT
END:VCALENDAR