BEGIN:VCALENDAR
VERSION:2.0
PRODID:-//LMCD - ECPv6.15.20//NONSGML v1.0//EN
CALSCALE:GREGORIAN
METHOD:PUBLISH
X-WR-CALNAME:LMCD
X-ORIGINAL-URL:https://lmcd.org
X-WR-CALDESC:Events for LMCD
REFRESH-INTERVAL;VALUE=DURATION:PT1H
X-Robots-Tag:noindex
X-PUBLISHED-TTL:PT1H
BEGIN:VTIMEZONE
TZID:America/Chicago
BEGIN:DAYLIGHT
TZOFFSETFROM:-0600
TZOFFSETTO:-0500
TZNAME:CDT
DTSTART:20230312T080000
END:DAYLIGHT
BEGIN:STANDARD
TZOFFSETFROM:-0500
TZOFFSETTO:-0600
TZNAME:CST
DTSTART:20231105T070000
END:STANDARD
BEGIN:DAYLIGHT
TZOFFSETFROM:-0600
TZOFFSETTO:-0500
TZNAME:CDT
DTSTART:20240310T080000
END:DAYLIGHT
BEGIN:STANDARD
TZOFFSETFROM:-0500
TZOFFSETTO:-0600
TZNAME:CST
DTSTART:20241103T070000
END:STANDARD
BEGIN:DAYLIGHT
TZOFFSETFROM:-0600
TZOFFSETTO:-0500
TZNAME:CDT
DTSTART:20250309T080000
END:DAYLIGHT
BEGIN:STANDARD
TZOFFSETFROM:-0500
TZOFFSETTO:-0600
TZNAME:CST
DTSTART:20251102T070000
END:STANDARD
END:VTIMEZONE
BEGIN:VEVENT
DTSTART;VALUE=DATE:20240718
DTEND;VALUE=DATE:20240719
DTSTAMP:20260425T101006
CREATED:20240715T192816Z
LAST-MODIFIED:20240715T192816Z
UID:5120-1721260800-1721347199@lmcd.org
SUMMARY:07/18/2024 Minnesota Wake surf Championship
DESCRIPTION:
URL:https://lmcd.org/event/07-18-2024-minnesota-wake-surf-championship/
LOCATION:Gray’s Bay
CATEGORIES:Other
END:VEVENT
BEGIN:VEVENT
DTSTART;VALUE=DATE:20240718
DTEND;VALUE=DATE:20240719
DTSTAMP:20260425T101006
CREATED:20240715T192931Z
LAST-MODIFIED:20240715T192931Z
UID:5122-1721260800-1721347199@lmcd.org
SUMMARY:07/18/2024 Spirit of the Lakes Festival
DESCRIPTION:
URL:https://lmcd.org/event/07-18-2024-spirit-of-the-lakes-festival/
LOCATION:Surfside Park
CATEGORIES:Other
END:VEVENT
BEGIN:VEVENT
DTSTART;TZID=America/Chicago:20240718T080000
DTEND;TZID=America/Chicago:20240718T170000
DTSTAMP:20260425T101006
CREATED:20240715T191543Z
LAST-MODIFIED:20240715T191543Z
UID:5103-1721289600-1721322000@lmcd.org
SUMMARY:07/18/2024 Wayzata Yacht Club Summer Race Series
DESCRIPTION:
URL:https://lmcd.org/event/07-18-2024-wayzata-yacht-club-summer-race-series/
LOCATION:Wayzata Bay
CATEGORIES:Other
END:VEVENT
BEGIN:VEVENT
DTSTART;TZID=America/Chicago:20240718T080000
DTEND;TZID=America/Chicago:20240718T170000
DTSTAMP:20260425T101006
CREATED:20240715T192016Z
LAST-MODIFIED:20240715T192016Z
UID:5110-1721289600-1721322000@lmcd.org
SUMMARY:07/18/2024 Minnetonka Yacht Club Summer Race Series
DESCRIPTION:
URL:https://lmcd.org/event/07-18-2024-minnetonka-yacht-club-summer-race-series/
LOCATION:Big Island
CATEGORIES:Other
END:VEVENT
BEGIN:VEVENT
DTSTART;TZID=America/Chicago:20240718T090000
DTEND;TZID=America/Chicago:20240718T170000
DTSTAMP:20260425T101006
CREATED:20240715T192443Z
LAST-MODIFIED:20240715T192443Z
UID:5116-1721293200-1721322000@lmcd.org
SUMMARY:07/18/2024 Upper Minnetonka Yacht Club Regattas
DESCRIPTION:
URL:https://lmcd.org/event/07-18-2024-upper-minnetonka-yacht-club-regattas/
LOCATION:East and West Bays of Upper Minnetonka Lake
CATEGORIES:Other
END:VEVENT
END:VCALENDAR