BEGIN:VCALENDAR
VERSION:2.0
PRODID:-//LMCD - ECPv6.15.20//NONSGML v1.0//EN
CALSCALE:GREGORIAN
METHOD:PUBLISH
X-ORIGINAL-URL:https://lmcd.org
X-WR-CALDESC:Events for LMCD
REFRESH-INTERVAL;VALUE=DURATION:PT1H
X-Robots-Tag:noindex
X-PUBLISHED-TTL:PT1H
BEGIN:VTIMEZONE
TZID:America/Chicago
BEGIN:DAYLIGHT
TZOFFSETFROM:-0600
TZOFFSETTO:-0500
TZNAME:CDT
DTSTART:20230312T080000
END:DAYLIGHT
BEGIN:STANDARD
TZOFFSETFROM:-0500
TZOFFSETTO:-0600
TZNAME:CST
DTSTART:20231105T070000
END:STANDARD
BEGIN:DAYLIGHT
TZOFFSETFROM:-0600
TZOFFSETTO:-0500
TZNAME:CDT
DTSTART:20240310T080000
END:DAYLIGHT
BEGIN:STANDARD
TZOFFSETFROM:-0500
TZOFFSETTO:-0600
TZNAME:CST
DTSTART:20241103T070000
END:STANDARD
BEGIN:DAYLIGHT
TZOFFSETFROM:-0600
TZOFFSETTO:-0500
TZNAME:CDT
DTSTART:20250309T080000
END:DAYLIGHT
BEGIN:STANDARD
TZOFFSETFROM:-0500
TZOFFSETTO:-0600
TZNAME:CST
DTSTART:20251102T070000
END:STANDARD
END:VTIMEZONE
BEGIN:VEVENT
DTSTART;TZID=America/Chicago:20240810T043000
DTEND;TZID=America/Chicago:20240810T170000
DTSTAMP:20260422T172609
CREATED:20240807T202557Z
LAST-MODIFIED:20240807T202557Z
UID:5194-1723264200-1723309200@lmcd.org
SUMMARY:08/10/2024 Twin Cities Open Water Half Marathon
DESCRIPTION:
URL:https://lmcd.org/event/08-10-2024-twin-cities-open-water-half-marathon/
LOCATION:Wayzata Beach
CATEGORIES:Other
END:VEVENT
BEGIN:VEVENT
DTSTART;TZID=America/Chicago:20240810T073000
DTEND;TZID=America/Chicago:20240810T170000
DTSTAMP:20260422T172609
CREATED:20240807T202627Z
LAST-MODIFIED:20240807T202627Z
UID:5196-1723275000-1723309200@lmcd.org
SUMMARY:08/10/2024 Big Island and Back 10k Paddle Event
DESCRIPTION:
URL:https://lmcd.org/event/08-10-2024-big-island-and-back-10k-paddle-event/
LOCATION:Excelsior Bay
CATEGORIES:Other
END:VEVENT
BEGIN:VEVENT
DTSTART;TZID=America/Chicago:20240810T080000
DTEND;TZID=America/Chicago:20240810T170000
DTSTAMP:20260422T172609
CREATED:20240807T200912Z
LAST-MODIFIED:20240807T200912Z
UID:5171-1723276800-1723309200@lmcd.org
SUMMARY:08/10/2024 Wayzata Yacht Club Summer Race Series
DESCRIPTION:
URL:https://lmcd.org/event/08-10-2024-wayzata-yacht-club-summer-race-series/
LOCATION:Wayzata Bay
CATEGORIES:Other
END:VEVENT
BEGIN:VEVENT
DTSTART;TZID=America/Chicago:20240810T080000
DTEND;TZID=America/Chicago:20240810T170000
DTSTAMP:20260422T172609
CREATED:20240807T201454Z
LAST-MODIFIED:20240807T201454Z
UID:5179-1723276800-1723309200@lmcd.org
SUMMARY:08/10/2024 Minnetonka Yacht Club Summer Race Series
DESCRIPTION:
URL:https://lmcd.org/event/08-10-2024-minnetonka-yacht-club-summer-race-series/
LOCATION:Big Island
CATEGORIES:Other
END:VEVENT
BEGIN:VEVENT
DTSTART;TZID=America/Chicago:20240810T090000
DTEND;TZID=America/Chicago:20240810T170000
DTSTAMP:20260422T172609
CREATED:20240807T202004Z
LAST-MODIFIED:20240807T202508Z
UID:5188-1723280400-1723309200@lmcd.org
SUMMARY:08/10/2024 Upper Minnetonka Yacht Club Regattas
DESCRIPTION:
URL:https://lmcd.org/event/08-10-2024-upper-minnetonka-yacht-club-regattas/
LOCATION:East and West Bays of Upper Minnetonka Lake
CATEGORIES:Other
END:VEVENT
END:VCALENDAR