BEGIN:VCALENDAR
VERSION:2.0
PRODID:-//LMCD - ECPv6.15.20//NONSGML v1.0//EN
CALSCALE:GREGORIAN
METHOD:PUBLISH
X-ORIGINAL-URL:https://lmcd.org
X-WR-CALDESC:Events for LMCD
REFRESH-INTERVAL;VALUE=DURATION:PT1H
X-Robots-Tag:noindex
X-PUBLISHED-TTL:PT1H
BEGIN:VTIMEZONE
TZID:America/Chicago
BEGIN:DAYLIGHT
TZOFFSETFROM:-0600
TZOFFSETTO:-0500
TZNAME:CDT
DTSTART:20180311T080000
END:DAYLIGHT
BEGIN:STANDARD
TZOFFSETFROM:-0500
TZOFFSETTO:-0600
TZNAME:CST
DTSTART:20181104T070000
END:STANDARD
BEGIN:DAYLIGHT
TZOFFSETFROM:-0600
TZOFFSETTO:-0500
TZNAME:CDT
DTSTART:20190310T080000
END:DAYLIGHT
BEGIN:STANDARD
TZOFFSETFROM:-0500
TZOFFSETTO:-0600
TZNAME:CST
DTSTART:20191103T070000
END:STANDARD
BEGIN:DAYLIGHT
TZOFFSETFROM:-0600
TZOFFSETTO:-0500
TZNAME:CDT
DTSTART:20200308T080000
END:DAYLIGHT
BEGIN:STANDARD
TZOFFSETFROM:-0500
TZOFFSETTO:-0600
TZNAME:CST
DTSTART:20201101T070000
END:STANDARD
END:VTIMEZONE
BEGIN:VEVENT
DTSTART;TZID=America/Chicago:20190508T190000
DTEND;TZID=America/Chicago:20190508T210000
DTSTAMP:20260419T183910
CREATED:20210621T175854Z
LAST-MODIFIED:20210621T180041Z
UID:1693-1557342000-1557349200@lmcd.org
SUMMARY:LMCD Board Meeting 05/08/2019
DESCRIPTION:View Meeting Packet\nView Minutes
URL:https://lmcd.org/event/lmcd-board-meeting-05-08-2019/
CATEGORIES:Board Meetings
END:VEVENT
BEGIN:VEVENT
DTSTART;TZID=America/Chicago:20190522T190000
DTEND;TZID=America/Chicago:20190522T210000
DTSTAMP:20260419T183910
CREATED:20210621T174555Z
LAST-MODIFIED:20210621T174555Z
UID:1690-1558551600-1558558800@lmcd.org
SUMMARY:LMCD Board Meeting 05/22/2019
DESCRIPTION:View Meeting Packet\nView Minutes
URL:https://lmcd.org/event/lmcd-board-meeting-05-22-2019/
CATEGORIES:Board Meetings
END:VEVENT
END:VCALENDAR