BEGIN:VCALENDAR
VERSION:2.0
PRODID:-//LMCD - ECPv6.15.20//NONSGML v1.0//EN
CALSCALE:GREGORIAN
METHOD:PUBLISH
X-WR-CALNAME:LMCD
X-ORIGINAL-URL:https://lmcd.org
X-WR-CALDESC:Events for LMCD
REFRESH-INTERVAL;VALUE=DURATION:PT1H
X-Robots-Tag:noindex
X-PUBLISHED-TTL:PT1H
BEGIN:VTIMEZONE
TZID:America/Chicago
BEGIN:DAYLIGHT
TZOFFSETFROM:-0600
TZOFFSETTO:-0500
TZNAME:CDT
DTSTART:20200308T080000
END:DAYLIGHT
BEGIN:STANDARD
TZOFFSETFROM:-0500
TZOFFSETTO:-0600
TZNAME:CST
DTSTART:20201101T070000
END:STANDARD
BEGIN:DAYLIGHT
TZOFFSETFROM:-0600
TZOFFSETTO:-0500
TZNAME:CDT
DTSTART:20210314T080000
END:DAYLIGHT
BEGIN:STANDARD
TZOFFSETFROM:-0500
TZOFFSETTO:-0600
TZNAME:CST
DTSTART:20211107T070000
END:STANDARD
BEGIN:DAYLIGHT
TZOFFSETFROM:-0600
TZOFFSETTO:-0500
TZNAME:CDT
DTSTART:20220313T080000
END:DAYLIGHT
BEGIN:STANDARD
TZOFFSETFROM:-0500
TZOFFSETTO:-0600
TZNAME:CST
DTSTART:20221106T070000
END:STANDARD
BEGIN:DAYLIGHT
TZOFFSETFROM:-0600
TZOFFSETTO:-0500
TZNAME:CDT
DTSTART:20230312T080000
END:DAYLIGHT
BEGIN:STANDARD
TZOFFSETFROM:-0500
TZOFFSETTO:-0600
TZNAME:CST
DTSTART:20231105T070000
END:STANDARD
BEGIN:DAYLIGHT
TZOFFSETFROM:-0600
TZOFFSETTO:-0500
TZNAME:CDT
DTSTART:20240310T080000
END:DAYLIGHT
BEGIN:STANDARD
TZOFFSETFROM:-0500
TZOFFSETTO:-0600
TZNAME:CST
DTSTART:20241103T070000
END:STANDARD
BEGIN:DAYLIGHT
TZOFFSETFROM:-0600
TZOFFSETTO:-0500
TZNAME:CDT
DTSTART:20250309T080000
END:DAYLIGHT
BEGIN:STANDARD
TZOFFSETFROM:-0500
TZOFFSETTO:-0600
TZNAME:CST
DTSTART:20251102T070000
END:STANDARD
END:VTIMEZONE
BEGIN:VEVENT
DTSTART;TZID=America/Chicago:20240219T073000
DTEND;TZID=America/Chicago:20240219T073000
DTSTAMP:20260424T064836
CREATED:20240130T230249Z
LAST-MODIFIED:20240130T230334Z
UID:4851-1708327800-1708327800@lmcd.org
SUMMARY:02/19/2024 OFFICE CLOSED
DESCRIPTION:
URL:https://lmcd.org/event/02-19-2024-office-closed/
CATEGORIES:Operations
END:VEVENT
BEGIN:VEVENT
DTSTART;TZID=America/Chicago:20240115T073000
DTEND;TZID=America/Chicago:20240115T170000
DTSTAMP:20260424T064836
CREATED:20240116T221243Z
LAST-MODIFIED:20240116T221243Z
UID:4831-1705303800-1705338000@lmcd.org
SUMMARY:01/15/2024 Office Closed
DESCRIPTION:
URL:https://lmcd.org/event/01-15-2024-office-closed/
CATEGORIES:Operations
END:VEVENT
BEGIN:VEVENT
DTSTART;TZID=America/Chicago:20240101T073000
DTEND;TZID=America/Chicago:20240101T170000
DTSTAMP:20260424T064836
CREATED:20231114T153305Z
LAST-MODIFIED:20231114T153404Z
UID:4737-1704094200-1704128400@lmcd.org
SUMMARY:01/01/2024 Office Closed
DESCRIPTION:
URL:https://lmcd.org/event/01-01-2024-office-closed/
CATEGORIES:Operations
END:VEVENT
BEGIN:VEVENT
DTSTART;TZID=America/Chicago:20231226T080000
DTEND;TZID=America/Chicago:20231226T170000
DTSTAMP:20260424T064836
CREATED:20230105T173642Z
LAST-MODIFIED:20230825T133241Z
UID:3946-1703577600-1703610000@lmcd.org
SUMMARY:12/26/2023 Office Closed
DESCRIPTION:
URL:https://lmcd.org/event/12-26-2023-office-closed/
CATEGORIES:Operations
END:VEVENT
BEGIN:VEVENT
DTSTART;TZID=America/Chicago:20231225T080000
DTEND;TZID=America/Chicago:20231225T170000
DTSTAMP:20260424T064836
CREATED:20230105T173542Z
LAST-MODIFIED:20230825T133212Z
UID:3945-1703491200-1703523600@lmcd.org
SUMMARY:12/25/2023 Office Closed
DESCRIPTION:
URL:https://lmcd.org/event/12-25-2023-office-closed/
CATEGORIES:Operations
END:VEVENT
BEGIN:VEVENT
DTSTART;TZID=America/Chicago:20231124T080000
DTEND;TZID=America/Chicago:20231124T170000
DTSTAMP:20260424T064836
CREATED:20230105T173447Z
LAST-MODIFIED:20231030T130540Z
UID:3944-1700812800-1700845200@lmcd.org
SUMMARY:11/24/2023 Office Closed
DESCRIPTION:
URL:https://lmcd.org/event/11-24-2023-office-closed/
CATEGORIES:Operations
END:VEVENT
BEGIN:VEVENT
DTSTART;TZID=America/Chicago:20231123T080000
DTEND;TZID=America/Chicago:20231123T170000
DTSTAMP:20260424T064836
CREATED:20230105T173346Z
LAST-MODIFIED:20231030T130518Z
UID:3943-1700726400-1700758800@lmcd.org
SUMMARY:11/23/2023 Office Closed
DESCRIPTION:
URL:https://lmcd.org/event/11-23-2023-office-closed/
CATEGORIES:Operations
END:VEVENT
BEGIN:VEVENT
DTSTART;TZID=America/Chicago:20231110T080000
DTEND;TZID=America/Chicago:20231110T170000
DTSTAMP:20260424T064836
CREATED:20230105T173130Z
LAST-MODIFIED:20230825T133059Z
UID:3941-1699603200-1699635600@lmcd.org
SUMMARY:11/10/2023 Office Closed
DESCRIPTION:
URL:https://lmcd.org/event/11-10-2023-office-closed/
CATEGORIES:Operations
END:VEVENT
BEGIN:VEVENT
DTSTART;TZID=America/Chicago:20230904T080000
DTEND;TZID=America/Chicago:20230904T170000
DTSTAMP:20260424T064836
CREATED:20230105T173221Z
LAST-MODIFIED:20230825T132949Z
UID:3942-1693814400-1693846800@lmcd.org
SUMMARY:09/04/2023 Office Closed
DESCRIPTION:
URL:https://lmcd.org/event/09-04-2023-office-closed/
CATEGORIES:Operations
END:VEVENT
BEGIN:VEVENT
DTSTART;TZID=America/Chicago:20230518T100000
DTEND;TZID=America/Chicago:20230518T110000
DTSTAMP:20260424T064836
CREATED:20230511T154550Z
LAST-MODIFIED:20230515T210047Z
UID:4163-1684404000-1684407600@lmcd.org
SUMMARY:05/18/2023 Operations Committee Meeting
DESCRIPTION:Operations Committee Meeting – 10:00 a.m. \n\nMeeting Notice
URL:https://lmcd.org/event/05-18-2023-operations-committee-meeting/
CATEGORIES:Operations
END:VEVENT
BEGIN:VEVENT
DTSTART;TZID=America/Chicago:20230426T180000
DTEND;TZID=America/Chicago:20230426T190000
DTSTAMP:20260424T064836
CREATED:20230105T162953Z
LAST-MODIFIED:20230105T162953Z
UID:3929-1682532000-1682535600@lmcd.org
SUMMARY:04/26/2023 Operations Committee Meeting - PLACEHOLDER
DESCRIPTION:
URL:https://lmcd.org/event/04-26-2023-operations-committee-meeting-placeholder/
CATEGORIES:Operations
END:VEVENT
BEGIN:VEVENT
DTSTART;TZID=America/Chicago:20230418T100000
DTEND;TZID=America/Chicago:20230418T110000
DTSTAMP:20260424T064836
CREATED:20230413T202506Z
LAST-MODIFIED:20230413T202506Z
UID:4104-1681812000-1681815600@lmcd.org
SUMMARY:04/18/2023 Operations Committee Meeting
DESCRIPTION:Operations Committee Meeting – 10 a.m. \n\nMeeting Notice
URL:https://lmcd.org/event/04-18-2023-operations-committee-meeting/
CATEGORIES:Operations
END:VEVENT
BEGIN:VEVENT
DTSTART;TZID=America/Chicago:20230321T093000
DTEND;TZID=America/Chicago:20230321T103000
DTSTAMP:20260424T064836
CREATED:20230105T162752Z
LAST-MODIFIED:20230316T171747Z
UID:3928-1679391000-1679394600@lmcd.org
SUMMARY:03/21/2023 Operations Committee Meeting
DESCRIPTION:Operations Committee Meeting – 9:30 a.m. \n\nMeeting Notice
URL:https://lmcd.org/event/03-22-2023-operations-committee-meeting/
CATEGORIES:Operations
END:VEVENT
BEGIN:VEVENT
DTSTART;TZID=America/Chicago:20230222T180000
DTEND;TZID=America/Chicago:20230222T190000
DTSTAMP:20260424T064836
CREATED:20230105T162552Z
LAST-MODIFIED:20230105T162553Z
UID:3927-1677088800-1677092400@lmcd.org
SUMMARY:02/22/2023 Operations Committee Meeting - PLACEHOLDER
DESCRIPTION:
URL:https://lmcd.org/event/02-22-2023-operations-committee-meeting-placeholder/
CATEGORIES:Operations
END:VEVENT
BEGIN:VEVENT
DTSTART;TZID=America/Chicago:20221220T100000
DTEND;TZID=America/Chicago:20221220T120000
DTSTAMP:20260424T064836
CREATED:20220215T202751Z
LAST-MODIFIED:20220409T015537Z
UID:2403-1671530400-1671537600@lmcd.org
SUMMARY:12/20/2022 Operations Committee Meeting
DESCRIPTION:
URL:https://lmcd.org/event/12-20-2022-operations-committee-meeting-placeholder/
CATEGORIES:Operations
END:VEVENT
BEGIN:VEVENT
DTSTART;TZID=America/Chicago:20221115T100000
DTEND;TZID=America/Chicago:20221115T120000
DTSTAMP:20260424T064836
CREATED:20220215T203058Z
LAST-MODIFIED:20220215T203058Z
UID:2404-1668506400-1668513600@lmcd.org
SUMMARY:11/15/2022 Operations Committee Meeting - Placeholder
DESCRIPTION:
URL:https://lmcd.org/event/11-15-2022-operations-committee-meeting-placeholder/
CATEGORIES:Operations
END:VEVENT
BEGIN:VEVENT
DTSTART;TZID=America/Chicago:20221109T180000
DTEND;TZID=America/Chicago:20221109T190000
DTSTAMP:20260424T064836
CREATED:20221104T224254Z
LAST-MODIFIED:20221104T225355Z
UID:3771-1668016800-1668020400@lmcd.org
SUMMARY:11/09/2022 Operations Committee Meeting
DESCRIPTION:Operations Committee Meeting – 6:00 p.m. \n\nMeeting Notice
URL:https://lmcd.org/event/11-09-2022-operations-committee-meeting/
CATEGORIES:Operations
END:VEVENT
BEGIN:VEVENT
DTSTART;TZID=America/Chicago:20221026T180000
DTEND;TZID=America/Chicago:20221026T190000
DTSTAMP:20260424T064836
CREATED:20220215T202125Z
LAST-MODIFIED:20221020T214923Z
UID:2395-1666807200-1666810800@lmcd.org
SUMMARY:10/26/2022 Operations Committee Meeting
DESCRIPTION:Operations Committee Meeting – 6:00 p.m. \n\nMeeting Notice
URL:https://lmcd.org/event/10-18-2022-operations-committee-meeting-placeholder/
CATEGORIES:Operations
END:VEVENT
BEGIN:VEVENT
DTSTART;TZID=America/Chicago:20220928T170000
DTEND;TZID=America/Chicago:20220928T180000
DTSTAMP:20260424T064836
CREATED:20220215T201831Z
LAST-MODIFIED:20220919T165141Z
UID:2392-1664384400-1664388000@lmcd.org
SUMMARY:09/28/2022 Operations Committee Meeting - CANCELLED
DESCRIPTION:
URL:https://lmcd.org/event/09-20-2022-operations-committee-meeting-placeholder/
CATEGORIES:Operations
END:VEVENT
BEGIN:VEVENT
DTSTART;TZID=America/Chicago:20220824T170000
DTEND;TZID=America/Chicago:20220824T180000
DTSTAMP:20260424T064836
CREATED:20220215T201419Z
LAST-MODIFIED:20220819T205645Z
UID:2386-1661360400-1661364000@lmcd.org
SUMMARY:08/24/2022 Operations Committee Meeting - CANCELLED
DESCRIPTION:Operations Committee Meeting – 5:00 p.m. \n\nCancellation Notice
URL:https://lmcd.org/event/08-16-2022-operations-committee-meeting-placeholder/
CATEGORIES:Operations
END:VEVENT
BEGIN:VEVENT
DTSTART;TZID=America/Chicago:20220727T170000
DTEND;TZID=America/Chicago:20220727T180000
DTSTAMP:20260424T064836
CREATED:20220215T200933Z
LAST-MODIFIED:20220714T164700Z
UID:2381-1658941200-1658944800@lmcd.org
SUMMARY:07/27/2022 Operations Committee Meeting - CANCELLED
DESCRIPTION:Operations Committee Meeting – 6:oo p.m. \n\nCancellation Notice
URL:https://lmcd.org/event/07-19-2022-operations-committee-meeting-placeholder/
CATEGORIES:Operations
END:VEVENT
BEGIN:VEVENT
DTSTART;TZID=America/Chicago:20220622T170000
DTEND;TZID=America/Chicago:20220622T170000
DTSTAMP:20260424T064836
CREATED:20220215T200454Z
LAST-MODIFIED:20220623T215422Z
UID:2377-1655917200-1655917200@lmcd.org
SUMMARY:06/22/2022 Operations Committee Meeting - CANCELLED
DESCRIPTION:
URL:https://lmcd.org/event/06-21-2022-operations-committee-meeting-placeholder/
CATEGORIES:Operations
END:VEVENT
BEGIN:VEVENT
DTSTART;TZID=America/Chicago:20220525T170000
DTEND;TZID=America/Chicago:20220525T180000
DTSTAMP:20260424T064836
CREATED:20220215T195925Z
LAST-MODIFIED:20220628T160738Z
UID:2372-1653498000-1653501600@lmcd.org
SUMMARY:05/25/2022 Operations Committee Meeting - CANCELLED
DESCRIPTION:Operations Committee Meeting – 5:00 p.m. \n\nCancellation Notice
URL:https://lmcd.org/event/05-17-2022-operations-committee-meeting-placeholder/
CATEGORIES:Operations
END:VEVENT
BEGIN:VEVENT
DTSTART;TZID=America/Chicago:20220427T180000
DTEND;TZID=America/Chicago:20220427T190000
DTSTAMP:20260424T064836
CREATED:20220422T193927Z
LAST-MODIFIED:20220422T193927Z
UID:2611-1651082400-1651086000@lmcd.org
SUMMARY:04/27/2022 Operations Committee Meeting
DESCRIPTION:Operations Committee Meeting – 6:00 p.m. \n\nMeeting Notice
URL:https://lmcd.org/event/04-27-2022-operations-committee-meeting/
CATEGORIES:Operations
END:VEVENT
BEGIN:VEVENT
DTSTART;TZID=America/Chicago:20220419T100000
DTEND;TZID=America/Chicago:20220419T113000
DTSTAMP:20260424T064836
CREATED:20220215T194744Z
LAST-MODIFIED:20220422T193710Z
UID:2364-1650362400-1650367800@lmcd.org
SUMMARY:04/19/2022 Operations Committee Meeting - CANCELLED
DESCRIPTION:Operations Committee Meeting – 10:00 a.m. \n\nCancellation Notice
URL:https://lmcd.org/event/04-19-2022-operations-committee-meeting-placeholder/
CATEGORIES:Operations
END:VEVENT
BEGIN:VEVENT
DTSTART;TZID=America/Chicago:20220315T100000
DTEND;TZID=America/Chicago:20220315T120000
DTSTAMP:20260424T064836
CREATED:20220215T194410Z
LAST-MODIFIED:20220315T133737Z
UID:2360-1647338400-1647345600@lmcd.org
SUMMARY:03/15/2022 Operations Committee Meeting - VIRTUAL
DESCRIPTION:03/15/2022 Operations Committee Meeting – 10:00 a.m. \n\nMeeting Notice
URL:https://lmcd.org/event/03-15-2022-operations-committee-meeting-placeholder/
CATEGORIES:Operations
END:VEVENT
BEGIN:VEVENT
DTSTART;TZID=America/Chicago:20220301T110000
DTEND;TZID=America/Chicago:20220301T123000
DTSTAMP:20260424T064836
CREATED:20220225T182807Z
LAST-MODIFIED:20220225T183755Z
UID:2478-1646132400-1646137800@lmcd.org
SUMMARY:03/01/2022 Operations Committee Meeting
DESCRIPTION:03/01/2022 Operations Committee Meeting – 11 a.m. \n\nMeeting Notice
URL:https://lmcd.org/event/03-01-2022-operations-committee-meeting/
CATEGORIES:Operations
END:VEVENT
BEGIN:VEVENT
DTSTART;TZID=America/Chicago:20220215T100000
DTEND;TZID=America/Chicago:20220215T113000
DTSTAMP:20260424T064836
CREATED:20220207T070436Z
LAST-MODIFIED:20220215T150926Z
UID:2228-1644919200-1644924600@lmcd.org
SUMMARY:Operations Committee Meeting-CANCELLED
DESCRIPTION:Operations Committee Meeting \n\nCancellation Notice\n\n 
URL:https://lmcd.org/event/operations-committee-meeting-1000am-placeholder/
CATEGORIES:Operations
END:VEVENT
BEGIN:VEVENT
DTSTART;TZID=America/Chicago:20220118T090000
DTEND;TZID=America/Chicago:20220118T110000
DTSTAMP:20260424T064836
CREATED:20211214T005629Z
LAST-MODIFIED:20220111T211259Z
UID:2177-1642496400-1642503600@lmcd.org
SUMMARY:OPERATIONS COMMITTEE MEETING - 9:00am
DESCRIPTION:OPERATIONS COMMITTEE MEETING – 9:00am \nmeeting notice
URL:https://lmcd.org/event/placeholder-for-operations-committee-meeting-3/
CATEGORIES:Operations
END:VEVENT
BEGIN:VEVENT
DTSTART;TZID=America/Chicago:20211221T100000
DTEND;TZID=America/Chicago:20211221T110000
DTSTAMP:20260424T064836
CREATED:20210824T173426Z
LAST-MODIFIED:20211214T220613Z
UID:1965-1640080800-1640084400@lmcd.org
SUMMARY:CANCELLED - OPERATIONS COMMITTEE MEETING
DESCRIPTION:CANCELLED – OPERATIONS COMMITTEE MEETING \ncancellation notice
URL:https://lmcd.org/event/placeholder-for-operations-committee-meeting-2/
CATEGORIES:Operations
END:VEVENT
END:VCALENDAR