BEGIN:VCALENDAR
VERSION:2.0
PRODID:-//LMCD - ECPv6.15.20//NONSGML v1.0//EN
CALSCALE:GREGORIAN
METHOD:PUBLISH
X-ORIGINAL-URL:https://lmcd.org
X-WR-CALDESC:Events for LMCD
REFRESH-INTERVAL;VALUE=DURATION:PT1H
X-Robots-Tag:noindex
X-PUBLISHED-TTL:PT1H
BEGIN:VTIMEZONE
TZID:America/Chicago
BEGIN:DAYLIGHT
TZOFFSETFROM:-0600
TZOFFSETTO:-0500
TZNAME:CDT
DTSTART:20220313T080000
END:DAYLIGHT
BEGIN:STANDARD
TZOFFSETFROM:-0500
TZOFFSETTO:-0600
TZNAME:CST
DTSTART:20221106T070000
END:STANDARD
BEGIN:DAYLIGHT
TZOFFSETFROM:-0600
TZOFFSETTO:-0500
TZNAME:CDT
DTSTART:20230312T080000
END:DAYLIGHT
BEGIN:STANDARD
TZOFFSETFROM:-0500
TZOFFSETTO:-0600
TZNAME:CST
DTSTART:20231105T070000
END:STANDARD
BEGIN:DAYLIGHT
TZOFFSETFROM:-0600
TZOFFSETTO:-0500
TZNAME:CDT
DTSTART:20240310T080000
END:DAYLIGHT
BEGIN:STANDARD
TZOFFSETFROM:-0500
TZOFFSETTO:-0600
TZNAME:CST
DTSTART:20241103T070000
END:STANDARD
END:VTIMEZONE
BEGIN:VEVENT
DTSTART;TZID=America/Chicago:20230809T080000
DTEND;TZID=America/Chicago:20230809T170000
DTSTAMP:20260422T174521
CREATED:20230803T192939Z
LAST-MODIFIED:20230803T192939Z
UID:4478-1691568000-1691600400@lmcd.org
SUMMARY:08/09/2023 Wayzata Yacht Club Annual Race
DESCRIPTION:
URL:https://lmcd.org/event/08-09-2023-wayzata-yacht-club-annual-race/
CATEGORIES:Other
END:VEVENT
BEGIN:VEVENT
DTSTART;TZID=America/Chicago:20230809T090000
DTEND;TZID=America/Chicago:20230809T170000
DTSTAMP:20260422T174521
CREATED:20230803T145820Z
LAST-MODIFIED:20230803T145820Z
UID:4468-1691571600-1691600400@lmcd.org
SUMMARY:08/09/2023 Minnetonka Yacht Club Sailboat Racing
DESCRIPTION:
URL:https://lmcd.org/event/08-09-2023-minnetonka-yacht-club-sailboat-racing/
LOCATION:Big Island
CATEGORIES:Other
END:VEVENT
BEGIN:VEVENT
DTSTART;TZID=America/Chicago:20230809T160000
DTEND;TZID=America/Chicago:20230809T200000
DTSTAMP:20260422T174521
CREATED:20230803T142540Z
LAST-MODIFIED:20230803T142540Z
UID:4462-1691596800-1691611200@lmcd.org
SUMMARY:08/09/2023 Wednesday Evening Bassin
DESCRIPTION:
URL:https://lmcd.org/event/08-09-2023-wednesday-evening-bassin/
CATEGORIES:Other
END:VEVENT
BEGIN:VEVENT
DTSTART;TZID=America/Chicago:20230809T180000
DTEND;TZID=America/Chicago:20230809T220000
DTSTAMP:20260422T174521
CREATED:20230803T141047Z
LAST-MODIFIED:20230803T141047Z
UID:4461-1691604000-1691618400@lmcd.org
SUMMARY:08/09/2023 Upper Minnetonka Yacht Club Regattas
DESCRIPTION:
URL:https://lmcd.org/event/08-09-2023-upper-minnetonka-yacht-club-regattas/
CATEGORIES:Other
END:VEVENT
END:VCALENDAR