BEGIN:VCALENDAR
VERSION:2.0
PRODID:-//LMCD - ECPv6.15.20//NONSGML v1.0//EN
CALSCALE:GREGORIAN
METHOD:PUBLISH
X-WR-CALNAME:LMCD
X-ORIGINAL-URL:https://lmcd.org
X-WR-CALDESC:Events for LMCD
REFRESH-INTERVAL;VALUE=DURATION:PT1H
X-Robots-Tag:noindex
X-PUBLISHED-TTL:PT1H
BEGIN:VTIMEZONE
TZID:America/Chicago
BEGIN:DAYLIGHT
TZOFFSETFROM:-0600
TZOFFSETTO:-0500
TZNAME:CDT
DTSTART:20230312T080000
END:DAYLIGHT
BEGIN:STANDARD
TZOFFSETFROM:-0500
TZOFFSETTO:-0600
TZNAME:CST
DTSTART:20231105T070000
END:STANDARD
BEGIN:DAYLIGHT
TZOFFSETFROM:-0600
TZOFFSETTO:-0500
TZNAME:CDT
DTSTART:20240310T080000
END:DAYLIGHT
BEGIN:STANDARD
TZOFFSETFROM:-0500
TZOFFSETTO:-0600
TZNAME:CST
DTSTART:20241103T070000
END:STANDARD
BEGIN:DAYLIGHT
TZOFFSETFROM:-0600
TZOFFSETTO:-0500
TZNAME:CDT
DTSTART:20250309T080000
END:DAYLIGHT
BEGIN:STANDARD
TZOFFSETFROM:-0500
TZOFFSETTO:-0600
TZNAME:CST
DTSTART:20251102T070000
END:STANDARD
END:VTIMEZONE
BEGIN:VEVENT
DTSTART;TZID=America/Chicago:20240605T090000
DTEND;TZID=America/Chicago:20240605T093000
DTSTAMP:20260425T230241
CREATED:20240529T141624Z
LAST-MODIFIED:20240529T141624Z
UID:5020-1717578000-1717579800@lmcd.org
SUMMARY:06/05/2024 Budget Workgroup Meeting
DESCRIPTION:Meeting Notice
URL:https://lmcd.org/event/06-05-2024-budget-workgroup-meeting/
CATEGORIES:Finance
END:VEVENT
BEGIN:VEVENT
DTSTART;TZID=America/Chicago:20240605T093000
DTEND;TZID=America/Chicago:20240605T103000
DTSTAMP:20260425T230241
CREATED:20240502T151713Z
LAST-MODIFIED:20240529T135237Z
UID:4979-1717579800-1717583400@lmcd.org
SUMMARY:06/05/2024 Board Officers Meeting
DESCRIPTION:Meeting Notice
URL:https://lmcd.org/event/placeholder-06-05-2024-board-officers-meeting/
CATEGORIES:Board Officers
END:VEVENT
BEGIN:VEVENT
DTSTART;TZID=America/Chicago:20240610T080000
DTEND;TZID=America/Chicago:20240610T180000
DTSTAMP:20260425T230241
CREATED:20240513T160632Z
LAST-MODIFIED:20240513T161340Z
UID:4992-1718006400-1718042400@lmcd.org
SUMMARY:2024 Lake Minnetonka Boater Safety Education Program
DESCRIPTION:Event information
URL:https://lmcd.org/event/2024-lake-minnetonka-boater-safety-education-program/
LOCATION:Hennepin County Sheriff Water Patrol\, 4141 Shoreline Dr\, Spring Park\, Minnesota\, 55384
CATEGORIES:Other
END:VEVENT
BEGIN:VEVENT
DTSTART;TZID=America/Chicago:20240612T190000
DTEND;TZID=America/Chicago:20240612T210000
DTSTAMP:20260425T230241
CREATED:20240516T173016Z
LAST-MODIFIED:20240606T225540Z
UID:5001-1718218800-1718226000@lmcd.org
SUMMARY:6/12/2024 LMCD Board Meeting
DESCRIPTION:MEETING PACKET\nRequest to Speak
URL:https://lmcd.org/event/6-12-2024-lmcd-board-meeting-placeholder/
LOCATION:Wayzata City Hall\, 600 Rice St E\, Wayzata\, MN 55391\, Wayzata
CATEGORIES:Board Meetings
END:VEVENT
BEGIN:VEVENT
DTSTART;TZID=America/Chicago:20240626T190000
DTEND;TZID=America/Chicago:20240626T210000
DTSTAMP:20260425T230241
CREATED:20240516T173245Z
LAST-MODIFIED:20240620T194048Z
UID:5002-1719428400-1719435600@lmcd.org
SUMMARY:06/26/2024 LMCD Board Meeting - CANCELLED
DESCRIPTION:Cancellation Notice
URL:https://lmcd.org/event/06-26-2024-lmcd-board-meeting-placeholder/
LOCATION:Wayzata City Hall\, 600 Rice St E\, Wayzata\, MN 55391\, Wayzata
CATEGORIES:Board Meetings
END:VEVENT
END:VCALENDAR